BEGIN:VCALENDAR
VERSION:2.0
PRODID:-//Destination Sydney Surrounds South  - ECPv6.15.9//NONSGML v1.0//EN
CALSCALE:GREGORIAN
METHOD:PUBLISH
X-WR-CALNAME:Destination Sydney Surrounds South 
X-ORIGINAL-URL:https://dnsss.com.au
X-WR-CALDESC:Events for Destination Sydney Surrounds South 
REFRESH-INTERVAL;VALUE=DURATION:PT1H
X-Robots-Tag:noindex
X-PUBLISHED-TTL:PT1H
BEGIN:VTIMEZONE
TZID:Australia/Melbourne
BEGIN:STANDARD
TZOFFSETFROM:+1100
TZOFFSETTO:+1000
TZNAME:AEST
DTSTART:20250405T160000
END:STANDARD
BEGIN:DAYLIGHT
TZOFFSETFROM:+1000
TZOFFSETTO:+1100
TZNAME:AEDT
DTSTART:20251004T160000
END:DAYLIGHT
BEGIN:STANDARD
TZOFFSETFROM:+1100
TZOFFSETTO:+1000
TZNAME:AEST
DTSTART:20260404T160000
END:STANDARD
BEGIN:DAYLIGHT
TZOFFSETFROM:+1000
TZOFFSETTO:+1100
TZNAME:AEDT
DTSTART:20261003T160000
END:DAYLIGHT
BEGIN:STANDARD
TZOFFSETFROM:+1100
TZOFFSETTO:+1000
TZNAME:AEST
DTSTART:20270403T160000
END:STANDARD
BEGIN:DAYLIGHT
TZOFFSETFROM:+1000
TZOFFSETTO:+1100
TZNAME:AEDT
DTSTART:20271002T160000
END:DAYLIGHT
END:VTIMEZONE
BEGIN:VEVENT
DTSTART;TZID=Australia/Melbourne:20260422T120000
DTEND;TZID=Australia/Melbourne:20260422T124500
DTSTAMP:20260422T012415
CREATED:20260415T093712Z
LAST-MODIFIED:20260415T093712Z
UID:9004111223452628-1776859200-1776861900@dnsss.com.au
SUMMARY:Introduction to Wellness Experiences Webinar with Katherine Droga
DESCRIPTION:Introduction to Wellness Experiences Webinar\nJoin wellness tourism specialist Katherine Droga for a practical introduction to one of the fastest-growing segments in global travel. \nAligned with the NSW Visitor Economy Strategy 2035\, the session will explore global definitions and trends and the value of the sector and provide some valuable context around NSW free tools and supports available for businesses. \nIn this 45-minute session\, we’ll explore: \n\nWhat wellness tourism means in today’s context (and how it’s evolving)\nKey global and domestic trends shaping visitor expectations\nThe size of the opportunity and why it matters for regional NSW\nHow wellness can be incorporated into existing tourism offerings\nTools\, resources and support available to help you get started\n\nWednesday 22 April  |  12.00 – 12.45pm  \nImportantly\, this session will highlight that wellness tourism extends beyond traditional retreats or spas… many businesses are already delivering elements of wellness through nature\, food\, culture and connection. \nTo help you get the most out of the session\, we encourage you to explore the Destination NSW wellness tourism resources ahead of time: https://www.destinationnsw.com.au/destination-nsw-business-support/nsw-first-program/wellness-tourism \nThis session is ideal for businesses at any stage\, whether you’re already operating in the wellness space or simply curious about where your offering might fit. \nAlso register for our in person workshop\, taking place on Thursday 14 May | 10.00am – 1.00pm | Register here \nImage: Pigeon House Mountain\, Morton National Park | Credit: Destination NSW 
URL:https://dnsss.com.au/event/introduction-to-wellness-experiences-webinar-with-katherine-droga/
LOCATION:Online
CATEGORIES:Industry Event
ATTACH;FMTTYPE=image/webp:https://dnsss.com.au/wp-content/uploads/2026/04/image-1.webp
END:VEVENT
END:VCALENDAR